BEGIN:VCALENDAR
VERSION:2.0
PRODID:-//Kodiak Herbal Metis Culture - ECPv6.0.11//NONSGML v1.0//EN
CALSCALE:GREGORIAN
METHOD:PUBLISH
X-WR-CALNAME:Kodiak Herbal Metis Culture
X-ORIGINAL-URL:https://kodiakherbal.com
X-WR-CALDESC:Events for Kodiak Herbal Metis Culture
REFRESH-INTERVAL;VALUE=DURATION:PT1H
X-Robots-Tag:noindex
X-PUBLISHED-TTL:PT1H
BEGIN:VTIMEZONE
TZID:America/Edmonton
BEGIN:DAYLIGHT
TZOFFSETFROM:-0700
TZOFFSETTO:-0600
TZNAME:MDT
DTSTART:20220313T090000
END:DAYLIGHT
BEGIN:STANDARD
TZOFFSETFROM:-0600
TZOFFSETTO:-0700
TZNAME:MST
DTSTART:20221106T080000
END:STANDARD
END:VTIMEZONE
BEGIN:VEVENT
DTSTART;TZID=America/Edmonton:20220110T080000
DTEND;TZID=America/Edmonton:20220110T170000
DTSTAMP:20260420T013429
CREATED:20220111T013158Z
LAST-MODIFIED:20220111T013158Z
UID:5231-1641801600-1641834000@kodiakherbal.com
SUMMARY:Tree Medicine
DESCRIPTION:Right Here
URL:https://kodiakherbal.com/event/tree-medicine/
END:VEVENT
END:VCALENDAR